BEGIN:VCALENDAR
VERSION:2.0
PRODID:-//Migrant Worker Hub - ECPv6.9.1//NONSGML v1.0//EN
CALSCALE:GREGORIAN
METHOD:PUBLISH
X-WR-CALNAME:Migrant Worker Hub
X-ORIGINAL-URL:https://migrantworkerhub.ca
X-WR-CALDESC:Events for Migrant Worker Hub
REFRESH-INTERVAL;VALUE=DURATION:PT1H
X-Robots-Tag:noindex
X-PUBLISHED-TTL:PT1H
BEGIN:VTIMEZONE
TZID:America/Vancouver
BEGIN:DAYLIGHT
TZOFFSETFROM:-0800
TZOFFSETTO:-0700
TZNAME:PDT
DTSTART:20210314T100000
END:DAYLIGHT
BEGIN:STANDARD
TZOFFSETFROM:-0700
TZOFFSETTO:-0800
TZNAME:PST
DTSTART:20211107T090000
END:STANDARD
END:VTIMEZONE
BEGIN:VEVENT
DTSTART;TZID=America/Vancouver:20211130T100000
DTEND;TZID=America/Vancouver:20211130T120000
DTSTAMP:20260424T165713
CREATED:20211123T173910Z
LAST-MODIFIED:20211123T173910Z
UID:9198-1638266400-1638273600@migrantworkerhub.ca
SUMMARY:WorkSafeBC Reporting Processes for Frontline Staff Supporting Migrant Workers: Mental Health and Bullying and Harassment
DESCRIPTION:Migrant workers can be vulnerable to unsafe work and workplace hazards\, including their health and safety during the COVID-19 pandemic. They often lack the knowledge\, language skills and ability to exercise their right to a safe and healthy workplace. WorkSafeBC is partnering with AMSSA to develop workshops and information for settlement agencies and their support workers to help migrant workers understand and exercise their rights and receive benefits they are entitled to as workers in BC as they relate to workplace health and safety. \n\nEvent details and registration \n\n\nDate: November 30\, 2021\nTime: 10:00 am – 12:00 pm PST\nLocation: Zoom – Event details will be emailed immediately after registration\n\n\n\nCLICK HERE TO REGISTER  \n\nPresenters:  \nSteven Marino\, Occupational Safety Officer Prevention Field Services\, WorkSafe BC \nKrystal Luymes\, Senior Adjudicator\, Mental Health Unit\, WorkSafe BC \n\n\n\n\nQUESTIONS? \n\nSend an email to Andi at ajordan@amssa.org \n\nFunded by: WorkSafeBC
URL:https://migrantworkerhub.ca/event/worksafebc-reporting-processes-for-frontline-staff-supporting-migrant-workers-mental-health-and-bullying-and-harassment/
CATEGORIES:AMSSA,Online
END:VEVENT
END:VCALENDAR