BEGIN:VCALENDAR
VERSION:2.0
PRODID:-//Migrant Worker Hub - ECPv6.9.1//NONSGML v1.0//EN
CALSCALE:GREGORIAN
METHOD:PUBLISH
X-ORIGINAL-URL:https://migrantworkerhub.ca
X-WR-CALDESC:Events for Migrant Worker Hub
REFRESH-INTERVAL;VALUE=DURATION:PT1H
X-Robots-Tag:noindex
X-PUBLISHED-TTL:PT1H
BEGIN:VTIMEZONE
TZID:America/Los_Angeles
BEGIN:DAYLIGHT
TZOFFSETFROM:-0800
TZOFFSETTO:-0700
TZNAME:PDT
DTSTART:20210314T100000
END:DAYLIGHT
BEGIN:STANDARD
TZOFFSETFROM:-0700
TZOFFSETTO:-0800
TZNAME:PST
DTSTART:20211107T090000
END:STANDARD
END:VTIMEZONE
BEGIN:VEVENT
DTSTART;TZID=America/Los_Angeles:20211012T083000
DTEND;TZID=America/Los_Angeles:20211014T133000
DTSTAMP:20260422T194405
CREATED:20211006T141034Z
LAST-MODIFIED:20211006T141034Z
UID:9070-1634027400-1634218200@migrantworkerhub.ca
SUMMARY:National Virtual Roundtables for Migrant Worker Support Organizations  |  Tables rondes nationales virtuelles à l’intention des organismes de soutien des travailleurs migrants
DESCRIPTION:La version française suit la présente version anglaise\nThe French version follows the English version \n  \nNational Virtual Roundtables for Migrant Worker Support Organizations will provide professional development opportunities and enhance the capacity of individuals\, and the staff organizations\, institutions and businesses that support migrant workers. The roundtable events are an opportunity to share on regional priorities and service gaps in relation to supporting migrant workers\, while providing a space for those working with and supporting migrant workers to connect and share best practices. \n  \nEvent Details & Registration\nNational Virtual Roundtables for Migrant Worker Support Organizations \n*Participants have the option of attending Day 1 (English only) or 2 (French interpretation provided). \n*Day 3 will be a distinct Professional Development event open to all attendees on the topic of Racism and Hate. (French interpretation provided). \n*On Day 2 & 3 we will be providing simultaneous French interpretation throughout the day \nDate and time: \nClick Here to Register for Roundtable – Day1 \nTuesday\, October 12\, 2021\, 8:30 a.m. – 12:30 p.m. PST/11:30 a.m. – 3:30 p.m. EST \nClick Here to Register for Roundtable- Day 2 \nWednesday\, October 13\, 2021\, 8:30 a.m. – 1:00 p.m. PST/11:30 a.m. – 4:00 p.m. EST \nClick Here to Register for National Virtual Professional Development – Day 3 \nThursday\, October 14\, 2021\, 8:30 a.m. – 11:00 p.m. PST/11:30 a.m. – 2: 00 p.m. EST \nLocation: Zoom | You will receive the meeting join details upon registration from Zoom. Background documents will be sent to you prior to the event. \n*We will be live-tweeting during the event\, follow us on Twitter @amssabc! \n  \nAgenda \nDay 1- October 12\, 2021 – Day 2 – October 13\, 2021\nOn Day 1 (October 12\, 2021) and Day 2 (October 13\, 2021) migrant worker support organizations will learn about current ESDC-funded Projects related to supporting migrant workers. Presentations from the recipient organizations will provide updates on the programs and services provided to migrant workers in regions across Canada.\nFollowing the Day 1 (October 12\, 2021) and Day 2 (October 13\, 2021) presentations\, attendees will have the opportunity to share on regional priorities and service gaps in relation to supporting migrant workers\, while providing a space for those working with and supporting migrant workers to connect and share best practices. Discussions will take place in breakout sessions on Day 1 and a larger group discussion on Day 2. This will be an opportunity for shared learnings and networking with colleagues across the country. \nDay 3 – October 14\, 2021 \nOn Day 3 (October 14\, 2021)\, all attendees are welcome to attend this professional development training session with Dr. Moussa Magassa. The topic we are exploring is racism and hate towards migrant workers communities across Canada. The training answers the following questions: \n\nWhat is racism and hate?\nHow and why how does it manifest in different communities and specifically towards migrant workers?\nHow do experiences of racism and hate impact migrant workers?\nHow can service providers be connectors and bridge the gap between TWFs and the community they reside in?\nHow can service providers support workers when they experience racism from the community?\nWhat are some strategies in getting the community on board and to buy in\n\n  \nNational Virtual Professional Development Speaker\nDr. MOUSSA MAGASSA\, PHD\, IDI.QA| Educator & Facilitator / Researcher\nCEO and Principal of the Intercultural Capacity Building \nDr. Magassa is a UVic human rights educator\, specialist in anti-racism education\, equity\, diversity\, inclusion curriculum design and program development. He also teaches as an associate faculty in the UVic Social Justice Diploma program; the M.A in Global Leadership program at Royal Roads University; the UVic diploma program in intercultural studies & practice; and the UBC Centre for intercultural communication. \nHe holds a PhD in Curriculum and Instruction (UVic) with special focus in critical race theory\, anti-racism education\, EDI framework development in institution/ organizations\, intercultural communication and conflict resolution\, Islamophobia\, human rights discrimination & harassment\, and immigrants and refugees’ integration and adaptation in host communities. \nDr. Magassa is an advisor to various organizations: Resilience BC Anti-racism advisory and strategic planning committee; SFU academic and practitioner advisory committee for the migrant systems Change Leadership Certificate program; Co-chair of the Greater Victoria Police Diversity Advisory Committee; and board director of the Victoria Multifaith Society. Formerly\, Moussa was an advisor to the National Immigration Table of Community Cooperation in Francophone immigration; former president of the francophone society of Victoria; and the Vancouver Island board director for the BC Francophone Federation.Dr. Magassa is the Principal and CEO of the consulting firm\, The Intercultural Capacity Building Inc. www.magassa.ca\, specialized in EDI\, Intercultural capacity development and anti-racism education\, and program evaluation. \n  \n————————————————————–\n  \nLes tables rondes nationales virtuelles à l’intention des organismes de soutien des travailleurs migrants offriront des occasions de perfectionnement professionnel et renforceront les capacités des personnes et du personnel des organismes\, des institutions et des entreprises qui viennent en aide aux travailleurs migrants. \nLes activités qui s’y dérouleront constituent une occasion de parler des priorités régionales et des lacunes en matière de service touchant le soutien aux travailleurs migrants et elles permettront aux intervenants du milieu d’établir des liens et d’échanger des pratiques exemplaires. \n  \nDétails des activités et inscription\nTables rondes nationales virtuelles à l’intention des organismes de soutien des travailleurs migrants \n*Les participants ont le choix d’assister au Jour 1 (en anglais seulement) ou au Jour 2 (interprétation en français offerte).\n*Le Jour 3\, une activité de perfectionnement professionnel distincte portant sur le racisme et la haine est ouverte à tous les participants. (Interprétation en français offerte)\n*L’interprétation simultanée en français sera offerte tout au long des jours 2 et 3. \nDate et heure : \nCliquez ici pour vous inscrire à la table ronde – Jour 1 \nMardi 12 octobre 2021\, 8 h 30 à 12 h 30 (HNP) / 11 h 30 à 15 h 30 (HNE) \nCliquez ici pour vous inscrire à la table ronde – Jour 2 \nMercredi 13 octobre 2021\, 8 h 30 à 13 h (HNP) / 11 h 30 à 16 h (HNE) \nCliquez ici pour vous inscrire à l’atelier virtuel – Jour 3 \nJeudi 14 octobre 2021\, 8 h 30 à 11 h 00 (HNP) / 11 h 30 à 14 h (HNE) \nLieu : Zoom | Vous recevrez les renseignements pour vous joindre à la réunion lors de votre inscription. Les documents d’information vous seront transmis avant l’événement. \n*Suivez nos commentaires en direct pendant l’événement sur Twitter @amssabc! \n  \nOrdre du jour \nJour 1 : 12 octobre 2021 – Jour 2 : 13 octobre 2021 \nDans le cadre du Jour 1 (12 octobre 2021) et du Jour 2 (13 octobre 2021)\, les organismes de soutien des travailleurs migrants seront informés des projets actuels touchant leur mission et bénéficiant d’un financement offert par Emploi et Développement social Canada (EDSC). Des présentations d’organismes bénéficiaires fourniront des mises à jour sur les programmes et les services offerts aux travailleurs migrants de toutes les régions du Canada. \nÀ la suite de ces présentations\, les participants auront l’occasion de parler des priorités régionales et des lacunes en matière de service touchant le soutien aux travailleurs migrants; les intervenants du milieu auront ainsi l’occasion d’établir des liens et d’échanger des pratiques exemplaires. Des discussions se tiendront pendant les ateliers le Jour 1 et une discussion en grand groupe aura lieu le Jour 2. Il s’agit d’une occasion d’apprentissage partagé et de réseautage auprès de collègues de partout au pays. \nJour 3 : 14 octobre 2021 \nLe jour 3 (14 octobre 2021)\, tous les participants sont invités à assister à la séance de perfectionnement professionnel tenue par Dr Moussa Magassa. On y parlera du racisme et de la haine dont sont victimes les travailleurs migrants dans les collectivités à l’échelle du Canada. Lors de la séance\, on répondra aux questions suivantes : \n\nQu’est-ce que le racisme et la haine?\nComment se manifestent le racisme et la haine dans les différentes collectivités\, particulièrement envers les travailleurs migrants? Et pourquoi?\nQuel effet les manifestations de racisme et de haine ont-elles sur les travailleurs migrants?\nComment les fournisseurs de services peuvent-ils agir comme intermédiaires et pallier les lacunes entre les travailleurs étrangers temporaires et la collectivité où ils habitent?\nComment les fournisseurs de services peuvent-ils aider les travailleurs qui sont victimes de racisme dans leur collectivité?\nQuelles sont certaines des stratégies visant à s’assurer de la collaboration des collectivités?\n\n  \nConférencier – Perfectionnement professionnel – Séance nationale virtuelle\nDr MOUSSA MAGASSA\, Ph.D.\, IDI.QA (administrateur agréé de l’inventaire du développement interculturel)\nÉducateur et animateur / Chercheur Chef de la direction et directeur\, Intercultural Capacity Building \nLe Dr Magassa est éducateur en droits de la personne\, et spécialiste de l’éducation antiraciste\, de l’élaboration et de la mise en œuvre du programme d’équité\, de diversité et d’inclusion à l’Université de Victoria. Il enseigne également au programme menant à un diplôme en justice sociale à l’Université de Victoria; à la maîtrise au programme Global Leadership de l’Université Royal Roads; au programme menant à un diplôme en études interculturelles de l’Université de Victoria; et au CIC (centre de communication interculturelle) de l’Université de la Colombie-Britannique. \nIl détient un doctorat en philosophie (Curriculum and Instruction) de l’Université de Victoria axé sur la théorie critique de la race\, l’éducation antiraciste\, la mise en œuvre d’un cadre équité\, diversité et inclusion dans les institutions et les organismes\, la communication interculturelle et la résolution de conflits\, l’islamophobie\, la discrimination et le harcèlement relativement aux droits de la personne\, l’intégration et l’adaptation des immigrants et des réfugiés dans les collectivités d’accueil. \nDr Magassa agit également à titre de conseiller pour différents organismes : Comité consultatif et de planification stratégique de lutte contre le racisme de Resilience BC; comité consultatif d’universitaires et de praticiens de l’Université Simon Fraser dans le cadre du programme MSCL (Migrant Systems Change Leadership); coprésident du Greater Victoria Police Diversity Advisory Committee; et membre du conseil d’administration de la Victoria Multifaith Society. Dans le passé\, il a aussi été conseiller pour la Table nationale de concertation communautaire en immigration francophone; président de la Société francophone de Victoria; et membre du conseil d’administration de La Fédération des francophones de la Colombie-Britannique. Dr Magassa est chef de la direction et directeur de la société de conseil The Intercultural Capacity Building Inc. www.magassa.ca\, spécialisée en équité\, diversité et inclusion\, développement des compétences interculturelles et éducation antiraciste et évaluation de programme.
URL:https://migrantworkerhub.ca/event/national-virtual-roundtables-for-migrant-worker-support-organizations-tables-rondes-nationales-virtuelles-a-lintention-des-organismes-de-soutien-des-travailleurs-migrants/
CATEGORIES:AMSSA,Online
ORGANIZER;CN="Migrant Worker Hub":MAILTO:migrantworkerhub@amssa.org
END:VEVENT
END:VCALENDAR