BEGIN:VCALENDAR
VERSION:2.0
PRODID:-//Migrant Worker Hub - ECPv6.9.1//NONSGML v1.0//EN
CALSCALE:GREGORIAN
METHOD:PUBLISH
X-ORIGINAL-URL:https://migrantworkerhub.ca
X-WR-CALDESC:Events for Migrant Worker Hub
REFRESH-INTERVAL;VALUE=DURATION:PT1H
X-Robots-Tag:noindex
X-PUBLISHED-TTL:PT1H
BEGIN:VTIMEZONE
TZID:America/Vancouver
BEGIN:DAYLIGHT
TZOFFSETFROM:-0800
TZOFFSETTO:-0700
TZNAME:PDT
DTSTART:20220313T100000
END:DAYLIGHT
BEGIN:STANDARD
TZOFFSETFROM:-0700
TZOFFSETTO:-0800
TZNAME:PST
DTSTART:20221106T090000
END:STANDARD
END:VTIMEZONE
BEGIN:VEVENT
DTSTART;TZID=America/Vancouver:20220531T100000
DTEND;TZID=America/Vancouver:20220531T113000
DTSTAMP:20260415T125406
CREATED:20220527T160036Z
LAST-MODIFIED:20220519T130530Z
UID:9386-1653991200-1653996600@migrantworkerhub.ca
SUMMARY:Webinar: The Government of Canada Temporary Foreign Worker Job Bank
DESCRIPTION:Migrant worker support organizations have expressed a need for an orientation and training on the Government of Canada Temporary Foreign Worker Job Bank. This training will enable front line support workers to be able to guide migrant workers in searching and applying for positions listed on the Job Bank\, increasing the probability of labour market attachment in Canada for migrant workers.\n\nThis webinar will cover:\n\n  Introduction and overview of the Job Bank\n  How to support migrant workers to utilize the Job Bank to search for employment\n Tips and resources for migrant workers using the Job Bank for best results\n\n\nEvent details and registration \n\n\nWebinar: The Government of Canada Temporary Foreign Worker Job Bank- An Orientation and Training for Migrant Worker Support Organizations\nDate: May 31\, 2022\nTime: 10:00 a.m. to 11:30 a.m. PST / 1:00 p.m. – 2:30 p.m. EST\nLocation: Zoom – Event details will be emailed immediately after registration\n\n\n\nCLICK HERE TO REGISTER \nPresenters: \nShanisse Kleuskens\, Employment and Social Development Canada (ESDC) \nSophine Lemieux\, Employemnt and Social Development Canada (ESDC) \n\n\nQuestions? Send an email to Misrak Yacob at migrantworkerhub@amssa.org  \nFunded by: the Government of Canada’s Temporary Foreign Worker Program
URL:https://migrantworkerhub.ca/event/webinar-the-government-of-canada-temporary-foreign-worker-job-bank/
CATEGORIES:AMSSA,Online
END:VEVENT
END:VCALENDAR